BEGIN:VCALENDAR
VERSION:2.0
PRODID:-//ConwayChristianAcademy - ECPv6.15.20//NONSGML v1.0//EN
CALSCALE:GREGORIAN
METHOD:PUBLISH
X-ORIGINAL-URL:https://conwaychristianacademy.com
X-WR-CALDESC:Events for ConwayChristianAcademy
REFRESH-INTERVAL;VALUE=DURATION:PT1H
X-Robots-Tag:noindex
X-PUBLISHED-TTL:PT1H
BEGIN:VTIMEZONE
TZID:UTC
BEGIN:STANDARD
TZOFFSETFROM:+0000
TZOFFSETTO:+0000
TZNAME:UTC
DTSTART:20250101T000000
END:STANDARD
END:VTIMEZONE
BEGIN:VEVENT
DTSTART;VALUE=DATE:20260313
DTEND;VALUE=DATE:20260314
DTSTAMP:20260419T162110
CREATED:20260311T193213Z
LAST-MODIFIED:20260311T193213Z
UID:363184-1773360000-1773446399@conwaychristianacademy.com
SUMMARY:Spring Break– No School
DESCRIPTION:
URL:https://conwaychristianacademy.com/event/spring-break-no-school-2/
END:VEVENT
BEGIN:VEVENT
DTSTART;VALUE=DATE:20260316
DTEND;VALUE=DATE:20260321
DTSTAMP:20260419T162110
CREATED:20260109T123751Z
LAST-MODIFIED:20260109T123751Z
UID:363176-1773619200-1774051199@conwaychristianacademy.com
SUMMARY:Spring Break – No School
DESCRIPTION:
URL:https://conwaychristianacademy.com/event/spring-break-no-school/
END:VEVENT
END:VCALENDAR