BEGIN:VCALENDAR
VERSION:2.0
PRODID:-//ConwayChristianAcademy - ECPv6.15.20//NONSGML v1.0//EN
CALSCALE:GREGORIAN
METHOD:PUBLISH
X-WR-CALNAME:ConwayChristianAcademy
X-ORIGINAL-URL:https://conwaychristianacademy.com
X-WR-CALDESC:Events for ConwayChristianAcademy
REFRESH-INTERVAL;VALUE=DURATION:PT1H
X-Robots-Tag:noindex
X-PUBLISHED-TTL:PT1H
BEGIN:VTIMEZONE
TZID:UTC
BEGIN:STANDARD
TZOFFSETFROM:+0000
TZOFFSETTO:+0000
TZNAME:UTC
DTSTART:20240101T000000
END:STANDARD
END:VTIMEZONE
BEGIN:VEVENT
DTSTART;TZID=UTC:20251219T103000
DTEND;TZID=UTC:20251219T113000
DTSTAMP:20260419T212925
CREATED:20251202T160912Z
LAST-MODIFIED:20251202T160912Z
UID:363125-1766140200-1766143800@conwaychristianacademy.com
SUMMARY:Christmas Program
DESCRIPTION:
URL:https://conwaychristianacademy.com/event/christmas-program/
END:VEVENT
BEGIN:VEVENT
DTSTART;VALUE=DATE:20251222
DTEND;VALUE=DATE:20260103
DTSTAMP:20260419T212925
CREATED:20251202T161225Z
LAST-MODIFIED:20260109T124056Z
UID:363129-1766361600-1767398399@conwaychristianacademy.com
SUMMARY:Winter Break- No School
DESCRIPTION:
URL:https://conwaychristianacademy.com/event/winter-break-no-school/
END:VEVENT
END:VCALENDAR