BEGIN:VCALENDAR
VERSION:2.0
PRODID:-//ConwayChristianAcademy - ECPv6.15.20//NONSGML v1.0//EN
CALSCALE:GREGORIAN
METHOD:PUBLISH
X-WR-CALNAME:ConwayChristianAcademy
X-ORIGINAL-URL:https://conwaychristianacademy.com
X-WR-CALDESC:Events for ConwayChristianAcademy
REFRESH-INTERVAL;VALUE=DURATION:PT1H
X-Robots-Tag:noindex
X-PUBLISHED-TTL:PT1H
BEGIN:VTIMEZONE
TZID:UTC
BEGIN:STANDARD
TZOFFSETFROM:+0000
TZOFFSETTO:+0000
TZNAME:UTC
DTSTART:20240101T000000
END:STANDARD
END:VTIMEZONE
BEGIN:VEVENT
DTSTART;VALUE=DATE:20251016
DTEND;VALUE=DATE:20251017
DTSTAMP:20260419T231507
CREATED:20250925T211031Z
LAST-MODIFIED:20250925T211031Z
UID:363047-1760572800-1760659199@conwaychristianacademy.com
SUMMARY:Picture Day- Uniforms Required
DESCRIPTION:
URL:https://conwaychristianacademy.com/event/picture-day-uniforms-required/
END:VEVENT
BEGIN:VEVENT
DTSTART;VALUE=DATE:20251003
DTEND;VALUE=DATE:20251004
DTSTAMP:20260419T231507
CREATED:20250925T210914Z
LAST-MODIFIED:20250925T210914Z
UID:363045-1759449600-1759535999@conwaychristianacademy.com
SUMMARY:No School
DESCRIPTION:
URL:https://conwaychristianacademy.com/event/no-school/
END:VEVENT
END:VCALENDAR