BEGIN:VCALENDAR
VERSION:2.0
PRODID:-//ConwayChristianAcademy - ECPv6.15.20//NONSGML v1.0//EN
CALSCALE:GREGORIAN
METHOD:PUBLISH
X-WR-CALNAME:ConwayChristianAcademy
X-ORIGINAL-URL:https://conwaychristianacademy.com
X-WR-CALDESC:Events for ConwayChristianAcademy
REFRESH-INTERVAL;VALUE=DURATION:PT1H
X-Robots-Tag:noindex
X-PUBLISHED-TTL:PT1H
BEGIN:VTIMEZONE
TZID:UTC
BEGIN:STANDARD
TZOFFSETFROM:+0000
TZOFFSETTO:+0000
TZNAME:UTC
DTSTART:20240101T000000
END:STANDARD
END:VTIMEZONE
BEGIN:VEVENT
DTSTART;VALUE=DATE:20260414
DTEND;VALUE=DATE:20260416
DTSTAMP:20260419T193857
CREATED:20260311T193324Z
LAST-MODIFIED:20260311T193516Z
UID:363186-1776124800-1776297599@conwaychristianacademy.com
SUMMARY:Spring Picture Day
DESCRIPTION:
URL:https://conwaychristianacademy.com/event/spring-picture-day/
END:VEVENT
BEGIN:VEVENT
DTSTART;VALUE=DATE:20260403
DTEND;VALUE=DATE:20260404
DTSTAMP:20260419T193857
CREATED:20260109T123841Z
LAST-MODIFIED:20260109T123841Z
UID:363178-1775174400-1775260799@conwaychristianacademy.com
SUMMARY:Good Friday – No School
DESCRIPTION:
URL:https://conwaychristianacademy.com/event/good-friday-no-school/
END:VEVENT
BEGIN:VEVENT
DTSTART;VALUE=DATE:20260316
DTEND;VALUE=DATE:20260321
DTSTAMP:20260419T193857
CREATED:20260109T123751Z
LAST-MODIFIED:20260109T123751Z
UID:363176-1773619200-1774051199@conwaychristianacademy.com
SUMMARY:Spring Break – No School
DESCRIPTION:
URL:https://conwaychristianacademy.com/event/spring-break-no-school/
END:VEVENT
BEGIN:VEVENT
DTSTART;VALUE=DATE:20260313
DTEND;VALUE=DATE:20260314
DTSTAMP:20260419T193857
CREATED:20260311T193213Z
LAST-MODIFIED:20260311T193213Z
UID:363184-1773360000-1773446399@conwaychristianacademy.com
SUMMARY:Spring Break– No School
DESCRIPTION:
URL:https://conwaychristianacademy.com/event/spring-break-no-school-2/
END:VEVENT
BEGIN:VEVENT
DTSTART;VALUE=DATE:20260216
DTEND;VALUE=DATE:20260217
DTSTAMP:20260419T193857
CREATED:20260109T123546Z
LAST-MODIFIED:20260109T123546Z
UID:363173-1771200000-1771286399@conwaychristianacademy.com
SUMMARY:Presidents' Day – No School
DESCRIPTION:
URL:https://conwaychristianacademy.com/event/presidents-day-no-school/
END:VEVENT
BEGIN:VEVENT
DTSTART;VALUE=DATE:20260122
DTEND;VALUE=DATE:20260123
DTSTAMP:20260419T193857
CREATED:20251202T161643Z
LAST-MODIFIED:20251202T161643Z
UID:363137-1769040000-1769126399@conwaychristianacademy.com
SUMMARY:100th Day of School
DESCRIPTION:
URL:https://conwaychristianacademy.com/event/100th-day-of-school/
END:VEVENT
BEGIN:VEVENT
DTSTART;VALUE=DATE:20260119
DTEND;VALUE=DATE:20260120
DTSTAMP:20260419T193857
CREATED:20251202T161557Z
LAST-MODIFIED:20260109T123613Z
UID:363135-1768780800-1768867199@conwaychristianacademy.com
SUMMARY:Martin Luther King Jr Day – No School
DESCRIPTION:
URL:https://conwaychristianacademy.com/event/martin-luther-king-jr-day-no-school/
END:VEVENT
BEGIN:VEVENT
DTSTART;TZID=UTC:20260113T163000
DTEND;TZID=UTC:20260113T173000
DTSTAMP:20260419T193857
CREATED:20251202T161451Z
LAST-MODIFIED:20260112T200247Z
UID:363133-1768321800-1768325400@conwaychristianacademy.com
SUMMARY:Kindergarten Preview
DESCRIPTION:
URL:https://conwaychristianacademy.com/event/kindergarten-preview/
END:VEVENT
BEGIN:VEVENT
DTSTART;VALUE=DATE:20260105
DTEND;VALUE=DATE:20260106
DTSTAMP:20260419T193857
CREATED:20251202T161316Z
LAST-MODIFIED:20251202T161316Z
UID:363131-1767571200-1767657599@conwaychristianacademy.com
SUMMARY:Student Holiday/Teacher Workday- No School
DESCRIPTION:
URL:https://conwaychristianacademy.com/event/student-holiday-teacher-workday-no-school/
END:VEVENT
BEGIN:VEVENT
DTSTART;VALUE=DATE:20251222
DTEND;VALUE=DATE:20260103
DTSTAMP:20260419T193857
CREATED:20251202T161225Z
LAST-MODIFIED:20260109T124056Z
UID:363129-1766361600-1767398399@conwaychristianacademy.com
SUMMARY:Winter Break- No School
DESCRIPTION:
URL:https://conwaychristianacademy.com/event/winter-break-no-school/
END:VEVENT
BEGIN:VEVENT
DTSTART;TZID=UTC:20251219T103000
DTEND;TZID=UTC:20251219T113000
DTSTAMP:20260419T193857
CREATED:20251202T160912Z
LAST-MODIFIED:20251202T160912Z
UID:363125-1766140200-1766143800@conwaychristianacademy.com
SUMMARY:Christmas Program
DESCRIPTION:
URL:https://conwaychristianacademy.com/event/christmas-program/
END:VEVENT
BEGIN:VEVENT
DTSTART;VALUE=DATE:20251124
DTEND;VALUE=DATE:20251129
DTSTAMP:20260419T193857
CREATED:20251202T161053Z
LAST-MODIFIED:20251202T162100Z
UID:363127-1763942400-1764374399@conwaychristianacademy.com
SUMMARY:Thanksgiving Break- No School
DESCRIPTION:
URL:https://conwaychristianacademy.com/event/thanksgiving-break-no-school/
END:VEVENT
BEGIN:VEVENT
DTSTART;TZID=UTC:20251121T090000
DTEND;TZID=UTC:20251121T120000
DTSTAMP:20260419T193857
CREATED:20251202T160802Z
LAST-MODIFIED:20251202T160935Z
UID:363123-1763715600-1763726400@conwaychristianacademy.com
SUMMARY:Turkey Trot
DESCRIPTION:
URL:https://conwaychristianacademy.com/event/turkey-trot/
END:VEVENT
BEGIN:VEVENT
DTSTART;TZID=UTC:20251025T110000
DTEND;TZID=UTC:20251025T140000
DTSTAMP:20260419T193857
CREATED:20250925T211141Z
LAST-MODIFIED:20250926T122218Z
UID:363049-1761390000-1761400800@conwaychristianacademy.com
SUMMARY:Fall Festival
DESCRIPTION:
URL:https://conwaychristianacademy.com/event/fall-festival/
END:VEVENT
BEGIN:VEVENT
DTSTART;VALUE=DATE:20251021
DTEND;VALUE=DATE:20251022
DTSTAMP:20260419T193857
CREATED:20250925T211220Z
LAST-MODIFIED:20250925T211220Z
UID:363051-1761004800-1761091199@conwaychristianacademy.com
SUMMARY:50th Day of School
DESCRIPTION:
URL:https://conwaychristianacademy.com/event/50th-day-of-school/
END:VEVENT
BEGIN:VEVENT
DTSTART;VALUE=DATE:20251016
DTEND;VALUE=DATE:20251017
DTSTAMP:20260419T193857
CREATED:20250925T211031Z
LAST-MODIFIED:20250925T211031Z
UID:363047-1760572800-1760659199@conwaychristianacademy.com
SUMMARY:Picture Day- Uniforms Required
DESCRIPTION:
URL:https://conwaychristianacademy.com/event/picture-day-uniforms-required/
END:VEVENT
BEGIN:VEVENT
DTSTART;VALUE=DATE:20251003
DTEND;VALUE=DATE:20251004
DTSTAMP:20260419T193857
CREATED:20250925T210914Z
LAST-MODIFIED:20250925T210914Z
UID:363045-1759449600-1759535999@conwaychristianacademy.com
SUMMARY:No School
DESCRIPTION:
URL:https://conwaychristianacademy.com/event/no-school/
END:VEVENT
END:VCALENDAR